BEGIN:VCALENDAR
VERSION:2.0
PRODID:-//wp-events-plugin.com//7.2.3.1//EN
TZID:Europe/Berlin
X-WR-TIMEZONE:Europe/Berlin
BEGIN:VEVENT
UID:17@angelika-schroeder.de
DTSTART;TZID=Europe/Berlin:20260127T170000
DTEND;TZID=Europe/Berlin:20260127T180000
DTSTAMP:20251216T040459Z
URL:https://angelika-schroeder.de/veranstaltungen/autogenes-training-fuer-
 kinder-grund-aufbaukurs/
SUMMARY:Heilentspannung für Kinder - Grund-/Aufbaukurs
DESCRIPTION:
CATEGORIES:Autogenes Training für Kinder,Kurs- und Seminarreihen
LOCATION:Naturheilpraxis Angelika Schröder\, Düsterstr 5\, Dortmund\, NRW
 \, 44143\, Deutschland
X-APPLE-STRUCTURED-LOCATION;VALUE=URI;X-ADDRESS=Düsterstr 5\, Dortmund\, N
 RW\, 44143\, Deutschland;X-APPLE-RADIUS=100;X-TITLE=Naturheilpraxis Angeli
 ka Schröder:geo:0,0
END:VEVENT
BEGIN:VTIMEZONE
TZID:Europe/Berlin
X-LIC-LOCATION:Europe/Berlin
BEGIN:STANDARD
DTSTART:20251026T020000
TZOFFSETFROM:+0200
TZOFFSETTO:+0100
TZNAME:CET
END:STANDARD
END:VTIMEZONE
END:VCALENDAR