BEGIN:VCALENDAR
VERSION:2.0
PRODID:-//wp-events-plugin.com//7.2.3.1//EN
TZID:Europe/Berlin
X-WR-TIMEZONE:Europe/Berlin
BEGIN:VEVENT
UID:35@angelika-schroeder.de
DTSTART;TZID=Europe/Berlin;VALUE=DATE:20260603
DTEND;TZID=Europe/Berlin;VALUE=DATE:20260607
DTSTAMP:20251216T042642Z
URL:https://angelika-schroeder.de/veranstaltungen/hoehere-bewusstseinsentf
 altung/
SUMMARY:Höhere Bewusstseins&shy\;entfaltung
DESCRIPTION:nach Sauter-Institut
CATEGORIES:Heil- und Lehrseminar — auswärts
LOCATION:Naturheilpraxis Angelika Schröder\, Düsterstr 5\, Dortmund\, NRW
 \, 44143\, Deutschland
X-APPLE-STRUCTURED-LOCATION;VALUE=URI;X-ADDRESS=Düsterstr 5\, Dortmund\, N
 RW\, 44143\, Deutschland;X-APPLE-RADIUS=100;X-TITLE=Naturheilpraxis Angeli
 ka Schröder:geo:0,0
END:VEVENT
BEGIN:VTIMEZONE
TZID:Europe/Berlin
X-LIC-LOCATION:Europe/Berlin
BEGIN:DAYLIGHT
DTSTART:20260329T030000
TZOFFSETFROM:+0100
TZOFFSETTO:+0200
TZNAME:CEST
END:DAYLIGHT
END:VTIMEZONE
END:VCALENDAR